BEGIN:VCALENDAR
VERSION:2.0
PRODID:-//CBDL - ECPv6.15.17.1//NONSGML v1.0//EN
CALSCALE:GREGORIAN
METHOD:PUBLISH
X-ORIGINAL-URL:https://cbdl.org.br
X-WR-CALDESC:Eventos para CBDL
REFRESH-INTERVAL;VALUE=DURATION:PT1H
X-Robots-Tag:noindex
X-PUBLISHED-TTL:PT1H
BEGIN:VTIMEZONE
TZID:America/Sao_Paulo
BEGIN:STANDARD
TZOFFSETFROM:-0300
TZOFFSETTO:-0300
TZNAME:-03
DTSTART:20240101T000000
END:STANDARD
END:VTIMEZONE
BEGIN:VEVENT
DTSTART;TZID=America/Sao_Paulo:20251029T080000
DTEND;TZID=America/Sao_Paulo:20251029T170000
DTSTAMP:20260424T065633
CREATED:20251023T184936Z
LAST-MODIFIED:20251023T184936Z
UID:375137-1761724800-1761757200@cbdl.org.br
SUMMARY:XIV Encontro da Rede Iberoamericana e do Caribe
DESCRIPTION:Nos dias 29 e 30 de outubro\, Brasília sediará o XIV Encontro da Rede Ibero-americana e do Caribe de Melhoria Regulatória\, que reunirá autoridades\, especialistas\, profissionais do setor\, estudantes e representantes de organismos internacionais para discutir avanços\, desafios e boas práticas em melhoria regulatória na região. \n  \nA Rede Ibero-Americana e do Caribe de Melhoria Regulatória é composta por mais de 10 países da região\, além de Espanha e Portugal\, e tem como objetivo promover a cooperação e o intercâmbio de boas práticas regulatórias para o fortalecimento da qualidade regulatória na Ibero-América e no Caribe. \n  \nEm 2025\, a Rede é coordenada pelo Brasil\, por meio do Ministério do Desenvolvimento\, Indústria\, Comércio e Serviços (MDIC)\, e co-coordenada pela República Dominicana. Conta ainda com o apoio da Organização para a Cooperação e Desenvolvimento Econômico (OCDE) e do Banco Interamericano de Desenvolvimento (BID). \n  \nA realização do encontro no Brasil reforça o compromisso do país com a agenda da melhoria regulatória\, da transparência e da governança pública\, em sintonia com padrões internacionais.
URL:https://cbdl.org.br/evento/xiv-encontro-da-rede-iberoamericana-e-do-caribe/
CATEGORIES:Congresso
ATTACH;FMTTYPE=image/jpeg:https://cbdl.org.br/wp-content/uploads/2025/10/Brasil-sediara-o-XIV-Encontro-da-Rede-Ibero-americana-e-do-Caribe-de-Melhoria-Regulatoria-1.jpg
END:VEVENT
END:VCALENDAR