BEGIN:VCALENDAR
VERSION:2.0
PRODID:-//CBDL - ECPv6.15.17.1//NONSGML v1.0//EN
CALSCALE:GREGORIAN
METHOD:PUBLISH
X-ORIGINAL-URL:https://cbdl.org.br
X-WR-CALDESC:Eventos para CBDL
REFRESH-INTERVAL;VALUE=DURATION:PT1H
X-Robots-Tag:noindex
X-PUBLISHED-TTL:PT1H
BEGIN:VTIMEZONE
TZID:America/Sao_Paulo
BEGIN:STANDARD
TZOFFSETFROM:-0300
TZOFFSETTO:-0300
TZNAME:-03
DTSTART:20240101T000000
END:STANDARD
END:VTIMEZONE
BEGIN:VEVENT
DTSTART;TZID=America/Sao_Paulo:20250519T080000
DTEND;TZID=America/Sao_Paulo:20250527T170000
DTSTAMP:20260424T155352
CREATED:20250130T194651Z
LAST-MODIFIED:20250130T194651Z
UID:374073-1747641600-1748365200@cbdl.org.br
SUMMARY:Seventy-seventh World Health Assembly
DESCRIPTION:A Sétima Sétima Assembleia Mundial da Saúde realiza-se em Genebra\, Suíça\, a 27 de Maio – 1 de Junho de 2024. O tema da Assembleia da Saúde deste ano é: Tudo pela Saúde\, Saúde por Todos. \nOs procedimentos serão transmitidos ao vivo a partir desta página da web. A interpretação simultânea estará disponível em Árabe\, Chinês\, Inglês\, Francês\, Russo e Espanhol.
URL:https://cbdl.org.br/evento/seventy-seventh-world-health-assembly/
LOCATION:Genebra\, Genebra\, Genebra\, Switzerland
CATEGORIES:Assembleia
ATTACH;FMTTYPE=image/webp:https://cbdl.org.br/wp-content/uploads/2025/01/Seventy-seventh-World-Health-Assembly.webp
END:VEVENT
END:VCALENDAR