BEGIN:VCALENDAR
VERSION:2.0
PRODID:-//CBDL - ECPv6.15.17.1//NONSGML v1.0//EN
CALSCALE:GREGORIAN
METHOD:PUBLISH
X-ORIGINAL-URL:https://cbdl.org.br
X-WR-CALDESC:Eventos para CBDL
REFRESH-INTERVAL;VALUE=DURATION:PT1H
X-Robots-Tag:noindex
X-PUBLISHED-TTL:PT1H
BEGIN:VTIMEZONE
TZID:America/Sao_Paulo
BEGIN:STANDARD
TZOFFSETFROM:-0300
TZOFFSETTO:-0300
TZNAME:-03
DTSTART:20250101T000000
END:STANDARD
END:VTIMEZONE
BEGIN:VEVENT
DTSTART;VALUE=DATE:20260816
DTEND;VALUE=DATE:20260820
DTSTAMP:20260424T065247
CREATED:20260225T191922Z
LAST-MODIFIED:20260225T191922Z
UID:375842-1786838400-1787183999@cbdl.org.br
SUMMARY:Medtrop 2026
DESCRIPTION:A equipe organizadora tem a honra de convidar a comunidade tropicalista para o 61º Congresso da Sociedade Brasileira de Medicina Tropical que será realizado no Centro de Convenções Ulysses Guimarães em Brasília\, de 16 a 19 de agosto de 2026. \nO Medtrop 2026 terá como tema principal: Saúde nos trópicos: uma visão integradora sob a perspectiva do Sul Global.  \nRealizar um evento sob essa ótica impõe o desafio de agregar e de fazer conversar diversas dimensões que permeiam o campo da saúde\, dentro de um contexto global que parta de um ponto de observação que se embrenhe nas condições e contradições próprias da região tropical.  \nO esforço principal estará concentrado em convergir o produto concreto das atividades do congresso em uma leitura de mundo que priorize a realidade e a visão dos principais atores responsáveis pela saúde da população. Para isso\, contaremos com o protagonismo de pessoas que constroem soluções no marco das parcerias Sul-Sul\, em associação equilibrada e descolonial com os parceiros do Norte Global. \nO cenário oferecido pelo Medtrop é privilegiado para a divulgação do conhecimento gerado pela comunidade científica que se dedica à pesquisa em doenças infecciosas e parasitárias e temas correlatos que atravessam os desafios da saúde nos trópicos e também do novo conhecimento gerado por gestores e trabalhadores em saúde por meio de pesquisas dentro do escopo da ciência de implementação.  \n\n\nO Medtrop 2026 também oferecerá oportunidades de aperfeiçoamento e qualificação em temas críticos para o sucesso da implementação de soluções para a prevenção e controle dos agravos mais relevantes\, incluindo os processos ligados ao uso de novas tecnologias e a sua aplicação efetiva nos cenários de transmissão. \nAssim\, o Medtrop receberá com muita alegria a participação da comunidade científica\, de gestores\, de profissionais de saúde\, da sociedade civil organizada e do setor produtivo em um ambiente propício para fortalecer o debate essencial para a construção das soluções para o aprimoramento efetivo das políticas de prevenção e cuidado de agravos prevalentes na região tropical\, com base na ciência e no contexto da luta permanente por um sistema de saúde público\, universal e gratuito: o SUS.   \nA cidade que os receberá é uma metrópole de quase 3 milhões de habitantes\, das mais diversas origens\, que celebra com orgulho a sua riqueza cultural no marco da sua moderna arquitetura iluminada por um céu monumentalmente belo.  \nO moderno Centro de Convenções que sediará o evento leva o nome de Ulysses Guimarães e é com o mesmo espírito de luta pela democracia e pelos direitos dos cidadãos\, intensamente vivenciado no marco constitucional de 1988\, que o Medtrop 2026 reafirmará o seu papel fundamental na busca permanente da concretização plena\, equânime e justa do direito à saúde para os povos do Sul Global. 
URL:https://cbdl.org.br/evento/medtrop-2026/
LOCATION:Ulysses Centro de Convenções\, SDC - Ulysses Guimarães\, Brasília - DF\,\, Brasília\, DF\, 70655-775
CATEGORIES:Congresso
ATTACH;FMTTYPE=image/jpeg:https://cbdl.org.br/wp-content/uploads/2026/02/Medtrop-2026.jpg
END:VEVENT
END:VCALENDAR