BEGIN:VCALENDAR
VERSION:2.0
PRODID:-//CBDL - ECPv6.15.17.1//NONSGML v1.0//EN
CALSCALE:GREGORIAN
METHOD:PUBLISH
X-ORIGINAL-URL:https://cbdl.org.br
X-WR-CALDESC:Eventos para CBDL
REFRESH-INTERVAL;VALUE=DURATION:PT1H
X-Robots-Tag:noindex
X-PUBLISHED-TTL:PT1H
BEGIN:VTIMEZONE
TZID:America/Sao_Paulo
BEGIN:STANDARD
TZOFFSETFROM:-0300
TZOFFSETTO:-0300
TZNAME:-03
DTSTART:20240101T000000
END:STANDARD
END:VTIMEZONE
BEGIN:VEVENT
DTSTART;TZID=America/Sao_Paulo:20250513T080000
DTEND;TZID=America/Sao_Paulo:20250515T170000
DTSTAMP:20260424T125036
CREATED:20250130T192218Z
LAST-MODIFIED:20250130T192218Z
UID:374059-1747123200-1747328400@cbdl.org.br
SUMMARY:MedTech Forum 2025
DESCRIPTION:O Fórum MedTech é a maior conferência do setor de saúde e tecnologia médica na Europa e um evento importante desde 2007.\nJunte-se a líderes do setor\, líderes inovadores e investidores para discutir as oportunidades futuras no setor de tecnologia médica.
URL:https://cbdl.org.br/evento/medtech-forum-2025/
LOCATION:Lisbon Congress Center\, Praça das Indústrias 1\, lisboa\, lisboa\, 1300-307\, Portugal
CATEGORIES:Fórum
ATTACH;FMTTYPE=image/jpeg:https://cbdl.org.br/wp-content/uploads/2025/01/medtech-forum-2025.jpg
END:VEVENT
END:VCALENDAR