BEGIN:VCALENDAR
VERSION:2.0
PRODID:-//CBDL - ECPv6.15.17.1//NONSGML v1.0//EN
CALSCALE:GREGORIAN
METHOD:PUBLISH
X-ORIGINAL-URL:https://cbdl.org.br
X-WR-CALDESC:Eventos para CBDL
REFRESH-INTERVAL;VALUE=DURATION:PT1H
X-Robots-Tag:noindex
X-PUBLISHED-TTL:PT1H
BEGIN:VTIMEZONE
TZID:America/Sao_Paulo
BEGIN:STANDARD
TZOFFSETFROM:-0300
TZOFFSETTO:-0300
TZNAME:-03
DTSTART:20250101T000000
END:STANDARD
END:VTIMEZONE
BEGIN:VEVENT
DTSTART;TZID=America/Sao_Paulo:20260203T100000
DTEND;TZID=America/Sao_Paulo:20260204T110000
DTSTAMP:20260423T171126
CREATED:20260127T115136Z
LAST-MODIFIED:20260127T115544Z
UID:375623-1770112800-1770202800@cbdl.org.br
SUMMARY:Laboratory Quality Seasonal School 2026 INSCRIÇÃO GRATUITA VIA ZOOM
DESCRIPTION:O Teste no Ponto de Atendimento (POCT) continua expandindo seu papel na saúde — mas alcançar resultados confiáveis exige mais do que dispositivos inovadores. Exige profissionais experientes\, sistemas de qualidade robustos\, alinhamento regulatório e colaboração sólida em todo o ecossistema POCT. A Escola Sazonal POC 2026\, organizada pela LabVine e POC Africa\, reúne profissionais\, fornecedores\, reguladores e líderes de pensamento sob o tema: “Moldando o Futuro do POCT: Resultados Confiáveis por Meio do Conhecimento e da Colaboração.” Em sessões interativas e discussões lideradas por especialistas\, o programa terá como foco em: Educando para a Competência — capacitando os profissionais com as habilidades e a confiança para aplicar o POCT de forma responsável. Garantindo Qualidade e Confiabilidade — incorporando garantia de qualidade e confiança em todas as etapas da prática do POCT. Preparando-se para a Regulação — navegando por padrões de conformidade em evolução e alinhando-se com estruturas internacionais. Colaboração para o Futuro — construir parcerias entre fornecedores\, profissionais de saúde e reguladores para impulsionar um impacto sustentável. Junte-se a nós enquanto exploramos como educação\, qualidade e colaboração podem desbloquear todo o potencial do POCT — garantindo precisão\, conformidade e confiança em cada resultado.\n\n\nData e hora\n\n\n\nA hora é mostrada em São Paulo \n\n\n3 fev. 2026 10:00 da manhã\n4 fev. 2026 10:00 da manhã\n\n\nLINK DE INSCRIÇÃO: Inscrição no Webinar – Zoom
URL:https://cbdl.org.br/evento/laboratory-quality-seasonal-school-2026-inscricao-gratuita-via-zoom/
CATEGORIES:Evento
ATTACH;FMTTYPE=image/webp:https://cbdl.org.br/wp-content/uploads/2026/01/Laboratory-Quality-Seasonal-School-2026.webp
END:VEVENT
END:VCALENDAR