BEGIN:VCALENDAR
VERSION:2.0
PRODID:-//CBDL - ECPv6.15.17.1//NONSGML v1.0//EN
CALSCALE:GREGORIAN
METHOD:PUBLISH
X-WR-CALNAME:CBDL
X-ORIGINAL-URL:https://cbdl.org.br
X-WR-CALDESC:Eventos para CBDL
REFRESH-INTERVAL;VALUE=DURATION:PT1H
X-Robots-Tag:noindex
X-PUBLISHED-TTL:PT1H
BEGIN:VTIMEZONE
TZID:America/Sao_Paulo
BEGIN:STANDARD
TZOFFSETFROM:-0300
TZOFFSETTO:-0300
TZNAME:-03
DTSTART:20250101T000000
END:STANDARD
END:VTIMEZONE
BEGIN:VEVENT
DTSTART;VALUE=DATE:20260812
DTEND;VALUE=DATE:20260814
DTSTAMP:20260423T200342
CREATED:20260225T191422Z
LAST-MODIFIED:20260225T191422Z
UID:375839-1786492800-1786665599@cbdl.org.br
SUMMARY:ABRAFARMA Future Trends
DESCRIPTION:Sobre o evento\n\n\nA Abrafarma representa um mercado de grandes oportunidades: o varejo farma. São 29 redes associadas com 11 mil lojas espalhadas pelo Brasil. De cada 10 medicamentos\, produtos de higiene e beleza\, nutrição e saúde comercializados no país\, 5 são vendidos em nossas lojas. \nO Abrafarma Future Trends reúne executivos das redes associadas\, indústrias farmacêutica\, alimentar\, de higiene e beleza\, distribuidores e staff das maiores redes de farmácia do país para discutir o futuro desse setor gigante\, com palestras e conferências de especialistas brasileiros e internacionais\, debates e uma megafeira com lançamentos de indústrias nacionais e estrangeiras. \nReconhecido como o mais importante evento do varejo farma das Américas e um dos maiores do mundo\, o Future Trends apresenta as mais novas tendências e as inovações tecnológicas que estão impactando positivamente os negócios. \nÉ uma oportunidade única de se atualizar\, fazer networking e fechar parcerias.
URL:https://cbdl.org.br/evento/abrafarma-future-trends/
LOCATION:Distrito Anhembi\, Rua Prof. Milton Rodrigues\, s/n - Santana - SP\, São Paulo\, São Paulo\, 02012-021\, Brasil
CATEGORIES:Evento
ATTACH;FMTTYPE=image/jpeg:https://cbdl.org.br/wp-content/uploads/2026/02/ABRAFARMA-Future-Trends.jpg
ORGANIZER;CN="Abrafarma Associa%C3%A7%C3%A3o Brasileira Redes Farm%C3%A1cias Drogaria":MAILTO:informes@abrafarma.com.br
END:VEVENT
END:VCALENDAR