BEGIN:VCALENDAR
VERSION:2.0
PRODID:-//CBDL - ECPv6.15.17.1//NONSGML v1.0//EN
CALSCALE:GREGORIAN
METHOD:PUBLISH
X-WR-CALNAME:CBDL
X-ORIGINAL-URL:https://cbdl.org.br
X-WR-CALDESC:Eventos para CBDL
REFRESH-INTERVAL;VALUE=DURATION:PT1H
X-Robots-Tag:noindex
X-PUBLISHED-TTL:PT1H
BEGIN:VTIMEZONE
TZID:America/Sao_Paulo
BEGIN:STANDARD
TZOFFSETFROM:-0300
TZOFFSETTO:-0300
TZNAME:-03
DTSTART:20230101T000000
END:STANDARD
END:VTIMEZONE
BEGIN:VTIMEZONE
TZID:Europe/Vienna
BEGIN:DAYLIGHT
TZOFFSETFROM:+0100
TZOFFSETTO:+0200
TZNAME:CEST
DTSTART:20230326T010000
END:DAYLIGHT
BEGIN:STANDARD
TZOFFSETFROM:+0200
TZOFFSETTO:+0100
TZNAME:CET
DTSTART:20231029T010000
END:STANDARD
BEGIN:DAYLIGHT
TZOFFSETFROM:+0100
TZOFFSETTO:+0200
TZNAME:CEST
DTSTART:20240331T010000
END:DAYLIGHT
BEGIN:STANDARD
TZOFFSETFROM:+0200
TZOFFSETTO:+0100
TZNAME:CET
DTSTART:20241027T010000
END:STANDARD
BEGIN:DAYLIGHT
TZOFFSETFROM:+0100
TZOFFSETTO:+0200
TZNAME:CEST
DTSTART:20250330T010000
END:DAYLIGHT
BEGIN:STANDARD
TZOFFSETFROM:+0200
TZOFFSETTO:+0100
TZNAME:CET
DTSTART:20251026T010000
END:STANDARD
END:VTIMEZONE
BEGIN:VEVENT
DTSTART;TZID=America/Sao_Paulo:20240813T080000
DTEND;TZID=America/Sao_Paulo:20240814T190000
DTSTAMP:20260423T214528
CREATED:20240725T201905Z
LAST-MODIFIED:20240725T201905Z
UID:373180-1723536000-1723662000@cbdl.org.br
SUMMARY:Abrafarma Future Trends - 13 a 14 de Agosto 2024
DESCRIPTION:O Abrafarma Future Trends é um evento em formato único e exclusivo no Brasil. Reúne executivos das principais redes associadas à entidade\, alem da indústria farmacêutica\, alimentar\, de higiene e beleza\, distribuidores e staff das maiores redes de farmácias do país. Com uma programação rica e abrangente\, o evento aborda os cenários e os novos passos desses mercados no Brasil\, além de promover debates sobre inovações e o futuro do mercado. O Abrafarma Future Trends conta com palestras\, stands e expositores de importantes indústrias nacionais e estrangeiras nas suas edições presenciais. O evento é reconhecido pela sua qualidade e porte\, sendo considerado o mais importante do varejo farmacêutico das Américas e um dos maiores do mundo. \nO Abrafarma Future Trends é reconhecido pela sua qualidade e porte\, sendo considerado o mais importante do varejo farmacêutico das Américas e um dos maiores do mundo. O evento reúne executivos das principais redes associadas à entidade\, além dos principais players da indústria farmacêutica\, alimentar\, de higiene e beleza e distribuição.
URL:https://cbdl.org.br/evento/abrafarma-future-trends-13-a-14-de-agosto-2024/
LOCATION:Distrito Anhembi\, Rua Prof. Milton Rodrigues\, s/n - Santana - SP\, São Paulo\, São Paulo\, 02012-021\, Brasil
CATEGORIES:Encontro
ATTACH;FMTTYPE=image/png:https://cbdl.org.br/wp-content/uploads/2024/07/capa-evento.png
ORGANIZER;CN="Abrafarma Associa%C3%A7%C3%A3o Brasileira Redes Farm%C3%A1cias Drogaria":MAILTO:informes@abrafarma.com.br
END:VEVENT
BEGIN:VEVENT
DTSTART;TZID=America/Sao_Paulo:20240729T090000
DTEND;TZID=America/Sao_Paulo:20240730T000000
DTSTAMP:20260423T214528
CREATED:20240730T174246Z
LAST-MODIFIED:20240730T174246Z
UID:373364-1722243600-1722297600@cbdl.org.br
SUMMARY:Global Pandemic Preparedness Summit 29 a 30 de Julho de 2024
DESCRIPTION:De 29 a 30 de julho de 2024\, o Ministério da Saúde do Brasil\, a Fundação Oswaldo Cruz (Fiocruz) e a Coalizão para Inovações em Preparação para Epidemias (CEPI) sediarão a Cúpula Global de Preparação para Pandemias 2024.\nA Cimeira pretende revigorar a dinâmica de preparação e resposta a pandemias\, ajudando a garantir que podemos acabar com futuros surtos de doenças infecciosas de forma mais rápida e equitativa.\nVocê pode participar das sessões plenárias conforme elas acontecem por meio dos links de transmissão ao vivo (ativos no dia)
URL:https://cbdl.org.br/evento/global-pandemic-preparedness-summit-29-a-30-de-julho-de-2024/
ATTACH;FMTTYPE=image/jpeg:https://cbdl.org.br/wp-content/uploads/2024/07/cepidentro_1.jpg
END:VEVENT
BEGIN:VEVENT
DTSTART;TZID=America/Sao_Paulo:20240728T080000
DTEND;TZID=America/Sao_Paulo:20240729T220000
DTSTAMP:20260423T214528
CREATED:20240114T153245Z
LAST-MODIFIED:20240820T143934Z
UID:371933-1722153600-1722290400@cbdl.org.br
SUMMARY:ADLM Clinical Lab Expo 30 de julho a 1º de agosto
DESCRIPTION:ADLM 2024 Clinical Lab Expo (anteriormente conhecida como AACC Clinical Lab Expo) é a principal exposição global de medicina laboratorial. Como o local para aprender sobre as inovações revolucionárias que moldam o futuro dos testes clínicos e do atendimento ao paciente\, a Clinical Lab Expo da ADLM oferece aos participantes a oportunidade de procurar pessoalmente mais de 900 expositores em busca de soluções para suas necessidades relacionadas ao laboratório.\nHorário da Expo\n\nTerça-feira\, 30 de julho e quarta-feira\, 31 de julho: 9h30 – 17h\, horário central dos EUA\nQuinta-feira\, 1º de agosto\, das 9h30 às 12h\, horário central dos EUA\n\nO que a Expo apresenta\nMais de 900 expositores\nNo ano passado\, os participantes tiveram acesso a mais de 900 expositores em mais de 200 categorias de produtos para aprender sobre as mais recentes tecnologias\, serviços e soluções para o laboratório e muito mais. \nVitrine de produtos\nVisite o outdoor eletrônico na entrada do Expo Hall para conhecer novos produtos e serviços inovadores. Você terá a oportunidade de interagir com a vitrine para obter informações detalhadas sobre produtos e serviços. \nApresentações de séries de palestras\nAprenda sobre as mais recentes tecnologias e serviços de diagnóstico nestas apresentações convenientes de 20 minutos. O teatro fica no salão de exposições para que você não precise sair da ação da Expo para assistir. As apresentações em destaque serão anunciadas a partir de abril. \nWorkshops da Indústria de Teatro do Salão de Exposições e Workshops da Indústria Hoteleira\nDescubra mais sobre novos avanços em diagnósticos e desenvolvimentos críticos em medicina laboratorial nos Exhibit Hall Theatres\, que estão convenientemente localizados no salão de exposições da Expo. Workshops da Indústria também são oferecidos em hotéis próximos. Confira o salão de expositores em destaque e os workshops da indústria hoteleira. As apresentações em destaque serão anunciadas a partir de abril. \nCaça ao Tesouro ADLM – Novidade este ano!\nNão perca esta experiência divertida e interativa! Explore a conferência\, visite os estandes dos expositores e participe de interações significativas com profissionais do setor. Mais detalhes em breve! \nEventos de rede\nA Clinical Lab Expo oferece oportunidades adicionais para interagir com colegas e fazer novas conexões\, como. \n\nAlmoço – Novidade este ano!\nPausas da tarde\n\nEventos adicionais poderão ser anunciados próximo à Expo. \nDisputa do laboratório ADLM\nConfira o sempre popular Laboratory Feud anual da ADLM – um evento especial no estilo gameshow. Não perca esta experiência divertida e interativa! \nResumos de pôsteres\nPôsteres de resumos aceitos estão em exibição no Poster Hall\, no andar Expo Show\, para visitação dos participantes da conferência científica e do salão de exposições. \nEstande ADLM + Lounge para Membros\nPare para aprender sobre os produtos/serviços da ADLM\, iniciativas de defesa e benefícios de associação\, como acesso ao lounge para membros da ADLM\, onde você pode relaxar\, recarregar energias e se reconectar com colegas. Não é um membro? Cadastre-se hoje e aproveite o registro com desconto.
URL:https://cbdl.org.br/evento/adlm-clinical-lab-expo-30-de-julho-a-1o-de-agosto/
LOCATION:ADLM\, 900 Seventh Street\, NW\, Suite 400\, Washington\, DC\, 20001\, Estados Unidos
CATEGORIES:Exposição
ATTACH;FMTTYPE=image/webp:https://cbdl.org.br/wp-content/uploads/2024/01/adlm_2024.webp
ORGANIZER;CN="ADLM":MAILTO:custserv@myadlm.org
END:VEVENT
BEGIN:VEVENT
DTSTART;TZID=America/Sao_Paulo:20240616T080000
DTEND;TZID=America/Sao_Paulo:20240619T210000
DTSTAMP:20260423T214528
CREATED:20240114T141815Z
LAST-MODIFIED:20240114T142217Z
UID:371904-1718524800-1718830800@cbdl.org.br
SUMMARY:49° Congresso Brasileiro de Análises Clínicas - CBAC 2024
DESCRIPTION:Conheça Natal com o 49ºCBAC\nCombinação de aprendizado e lazer:\nO que acha da possibilidade de combinar aprendizado e lazer ? Buscamos seu engajamento com as atividades do congresso e tornar a experiência mais enriquecedora e memorável. \nLocalização e Ambiente:\nNatal é uma cidade conhecida por suas belas praias\, clima tropical e belezas naturais. \n\nAgradável e relaxante para os participantes do congresso\, escolhemos Natal para que nossos associados e congressistas desfrutem de momentos de lazer e networking em um cenário acolhedor e paradisíaco.
URL:https://cbdl.org.br/evento/49-congresso-brasileiro-de-analises-clinicas-cbac-2024/
LOCATION:Centro de Convenções de Natal\, Via Costeira Sen. Dinarte Medeiros Mariz\, Natal\, RN\, 59090-002\, Brasil
CATEGORIES:Congresso
ATTACH;FMTTYPE=image/jpeg:https://cbdl.org.br/wp-content/uploads/2024/01/1699881620641.jpeg
ORGANIZER;CN="49%C2%BA Congresso Brasileiro de An%C3%A1lises Cl%C3%ADnicas - 49 CBAC":MAILTO:geral@sbac.org.br
END:VEVENT
BEGIN:VEVENT
DTSTART;TZID=Europe/Vienna:20240522T183000
DTEND;TZID=Europe/Vienna:20240524T220000
DTSTAMP:20260423T214528
CREATED:20240517T131133Z
LAST-MODIFIED:20240517T131133Z
UID:372916-1716402600-1716588000@cbdl.org.br
SUMMARY:MedTech Forum 2024 - 22 a 24 de Maio 2024
DESCRIPTION:A MedTech Europe tem o prazer de ter sediado um Fórum MedTech de sucesso. O Fórum deste ano destacou o quão inovador é o setor de tecnologia médica e o quanto ele contribui para os pacientes e os sistemas de saúde. \nO setor de tecnologias médicas tem muito a oferecer – nos últimos anos\, tivemos um impacto profundo e positivo na forma como os cuidados de saúde são prestados. Estamos ansiosos pelo futuro – o futuro do nosso setor\, o poder de criatividade e inovação na Europa e o papel que a nossa indústria terá na transformação dos cuidados de saúde. \nAs inovações da Medtech oferecem soluções necessárias para os desafios da Europa\, mas apenas se conseguirem atravessar o labirinto europeu e os doentes e os sistemas de saúde que delas necessitam. É fundamental que a Europa preste especial atenção para manter a sua atractividade histórica para a nossa indústria.
URL:https://cbdl.org.br/evento/medtech-forum-2024-22-a-24-de-maio-2024/
LOCATION:Prefeitura de Viena\, ichtenfelsgasse 2\, Feststiege 1\, 1010 \,\, Viena\, Viena\, 1010\, Áustria
CATEGORIES:Fórum
ATTACH;FMTTYPE=image/png:https://cbdl.org.br/wp-content/uploads/2024/05/Logo-site_1.png
ORGANIZER;CN="Medtech Europe":MAILTO:regist.medtechforum@europa-organisation.com
END:VEVENT
BEGIN:VEVENT
DTSTART;TZID=America/Sao_Paulo:20240521T080000
DTEND;TZID=America/Sao_Paulo:20240524T210000
DTSTAMP:20260423T214528
CREATED:20240114T150514Z
LAST-MODIFIED:20240114T150514Z
UID:371924-1716278400-1716584400@cbdl.org.br
SUMMARY:Hospitalar: a principal feira do setor da saúde da América Latina!
DESCRIPTION:A Hospitalar destaca-se como a principal feira de negócios do setor da saúde na América Latina\, consolidando-se ao longo de mais de 30 anos de história. Tornou-se a interface de conexão por excelência entre as diversas comunidades de saúde\, proporcionando oportunidades únicas de negócios\, networking e intercâmbio de conhecimento ao longo dos 4 dias do evento. Agora\, ampliamos essa experiência também para o ano inteiro através da Hospitalar Hub\, nossa plataforma digital oficial. \nA Hospitalar Hub é a plataforma digital oficial da Hospitalar. \nAo longo de todo o ano\, uma agenda incrível mantém a Hospitalar Hub ativa\, oferecendo conteúdos direcionados para diversas comunidades da área de saúde. \nNa plataforma\, é possível conferir as principais inovações e lançamentos da indústria\, expandir sua rede de contatos\, concretizar negócios vantajosos e explorar várias novas empresas. \nAcesse agora a plataforma e saiba mais! \n 
URL:https://cbdl.org.br/evento/hospitalar-a-principal-feira-do-setor-da-saude-da-america-latina/
LOCATION:São Paulo Expo\, Rodovia dos Imigrantes\, 1\,5 km - Vila Água Funda\, São Paulo\, SP\, 04329-900\, Brasil
CATEGORIES:Feira
ATTACH;FMTTYPE=image/webp:https://cbdl.org.br/wp-content/uploads/2024/01/Hospitalar.webp
ORGANIZER;CN="Informa Markets":MAILTO:institucional@informa.com
END:VEVENT
BEGIN:VEVENT
DTSTART;TZID=America/Sao_Paulo:20240424T133000
DTEND;TZID=America/Sao_Paulo:20240424T181500
DTSTAMP:20260423T214528
CREATED:20240320T134233Z
LAST-MODIFIED:20240320T134502Z
UID:372584-1713965400-1713982500@cbdl.org.br
SUMMARY:Fórum ABRAIDI 2024 - 24 de Abril
DESCRIPTION:Evento realizado pelo sétimo ano consecutivo marcará o lançamento de uma pesquisa que no ano passado revelou distorções da ordem de R$ 2 bilhões em retenções de faturamento\, glosas injustificadas e inadimplência. \nA ABRAIDI realizará em 24 de abril\, na cidade de São Paulo\, o 7º Fórum ABRAIDI que irá marcar o lançamento de uma pesquisa anual (O ciclo de fornecimento de produtos para a saúde no Brasil) trazendo um raio-x do setor de saúde no país. No ano passado\, o estudo revelou que os recursos contingenciados e imobilizados por hospitais e planos aos fornecedores de produtos passavam dos R$ 2 bilhões o que representava mais de 23% do faturamento das empresas deixando em risco a sustentabilidade do sistema privado e público no país.
URL:https://cbdl.org.br/evento/forum-abraidi-2024-24-de-abril/
LOCATION:InRad – Portaria 2\, R. Dr. Ovídio Pires de Campos\, 75 – Portaria 1 – Cerqueira César\, São Paulo – SP\, São Paulo\, 05403-010\, Brasil
CATEGORIES:Fórum
ATTACH;FMTTYPE=image/webp:https://cbdl.org.br/wp-content/uploads/2024/03/Capa-1.webp
ORGANIZER;CN="ABRAIDI":MAILTO:abraidi@abraidi.com.br
END:VEVENT
BEGIN:VEVENT
DTSTART;TZID=America/Sao_Paulo:20240320T080000
DTEND;TZID=America/Sao_Paulo:20240322T210000
DTSTAMP:20260423T214528
CREATED:20240131T223857Z
LAST-MODIFIED:20240131T223857Z
UID:372279-1710921600-1711141200@cbdl.org.br
SUMMARY:Congresso Imagine 2024 - INRAD - 20 a 22 de Março 2024
DESCRIPTION:O Instituto de Radiologia do Hospital das Clínicas da Faculdade de Medicina da Universidade de São Paulo – INRAD\, tem a satisfação de convidá-lo a participar do XXII CONGRESSO DE RADIOLOGIA E DIAGNÓSTICO POR IMAGEM DO HCFMUSP – IMAGINE 2024\, que será realizado em São Paulo\, de 20 a 22 de março de 2024\, no formato híbrido! \nA Comissão Organizadora está preparando uma programação científica envolvendo questões como prática diária\, desafios atuais e futuros da radiologia e diagnóstico por imagem\, e contará para isso com a participação do corpo clínico do InRad e convidados com reconhecida experiência nos temas a serem apresentados. \nAs dinâmicas das mesas de trabalhos estão estruturadas para oferecer a melhor experiência para os participantes. Serão aulas e discussões ao vivo\, com intuito de lapidar\, enriquecer e atualizar os conhecimentos do participante! \nNão percam!
URL:https://cbdl.org.br/evento/congresso-imagine-2024-inrad-20-a-22-de-marco-2024/
LOCATION:InRad\, R. Dr. Ovídio Pires de Campos\, 75 - Portaria 01 - Cerqueira César\, São Paulo\, SP\, 05403-010\, Brasil
CATEGORIES:Congresso
ATTACH;FMTTYPE=image/webp:https://cbdl.org.br/wp-content/uploads/2024/01/Banner-Imagine-2024-V3.webp
ORGANIZER;CN="InRad - Instituto de Radiologia do Hospital das Cl%C3%ADnicas FMUSP":MAILTO:comunicacao.inrad@hc.fm.usp.br
END:VEVENT
END:VCALENDAR