BEGIN:VCALENDAR
VERSION:2.0
PRODID:-//CBDL - ECPv6.15.17.1//NONSGML v1.0//EN
CALSCALE:GREGORIAN
METHOD:PUBLISH
X-WR-CALNAME:CBDL
X-ORIGINAL-URL:https://cbdl.org.br
X-WR-CALDESC:Eventos para CBDL
REFRESH-INTERVAL;VALUE=DURATION:PT1H
X-Robots-Tag:noindex
X-PUBLISHED-TTL:PT1H
BEGIN:VTIMEZONE
TZID:America/Sao_Paulo
BEGIN:STANDARD
TZOFFSETFROM:-0300
TZOFFSETTO:-0300
TZNAME:-03
DTSTART:20250101T000000
END:STANDARD
END:VTIMEZONE
BEGIN:VEVENT
DTSTART;VALUE=DATE:20260415
DTEND;VALUE=DATE:20260416
DTSTAMP:20260423T163859
CREATED:20260202T151442Z
LAST-MODIFIED:20260202T151538Z
UID:375682-1776211200-1776297599@cbdl.org.br
SUMMARY:3º Seminário - Diagnósticos Inovadores para Terapias Avançadas
DESCRIPTION:
URL:https://cbdl.org.br/evento/3o-seminario-diagnosticos-inovadores-para-terapias-avancadas/
LOCATION:Hospital Sírio-Libanês | Bela Vista\, Rua Dona Adma Jafet\, 115 - Bela Vista\, São Paulo\, São paulo\, 01308-050\, Brazil
CATEGORIES:Seminário
ATTACH;FMTTYPE=image/webp:https://cbdl.org.br/wp-content/uploads/2026/02/3o-Seminario-Diagnosticos-Inovadores-para-Terapias-Avancadas.webp
END:VEVENT
END:VCALENDAR