BEGIN:VCALENDAR
VERSION:2.0
PRODID:-//CBDL - ECPv6.15.17.1//NONSGML v1.0//EN
CALSCALE:GREGORIAN
METHOD:PUBLISH
X-ORIGINAL-URL:https://cbdl.org.br
X-WR-CALDESC:Eventos para CBDL
REFRESH-INTERVAL;VALUE=DURATION:PT1H
X-Robots-Tag:noindex
X-PUBLISHED-TTL:PT1H
BEGIN:VTIMEZONE
TZID:America/Sao_Paulo
BEGIN:STANDARD
TZOFFSETFROM:-0300
TZOFFSETTO:-0300
TZNAME:-03
DTSTART:20240101T000000
END:STANDARD
END:VTIMEZONE
BEGIN:VEVENT
DTSTART;TZID=America/Sao_Paulo:20251117T080000
DTEND;TZID=America/Sao_Paulo:20251121T170000
DTSTAMP:20260423T230316
CREATED:20250930T192702Z
LAST-MODIFIED:20250930T193015Z
UID:375051-1763366400-1763744400@cbdl.org.br
SUMMARY:IX Seminário de Ética na Gestão da Saúde
DESCRIPTION:O IX Seminário de Ética na Gestão em Saúde é um evento que visa promover o diálogo e a troca de ideias entre os profissionais de saúde. \nCom a participação de especialistas da Ibero-América\, aborda questões cruciais como os determinantes sociais na saúde\, o acesso equitativo e a ética na gestão da saúde. Durante o seminário\, serão abordados os desafios específicos da América Latina\, bem como aspectos relacionados com a tecnologia médica\, a educação médica humanista e a responsabilidade ética na gestão pública. \nEste evento oferece uma oportunidade valiosa para refletir\, aprender e partilhar experiências\, fornecendo ferramentas práticas para enfrentar eficazmente os desafios éticos nos cuidados de saúde. \nCom tradução simultânea para espanhol e português.
URL:https://cbdl.org.br/evento/8o-seminario-de-etica-na-gestao-da-saude/
LOCATION:São paulo
CATEGORIES:Seminário
ATTACH;FMTTYPE=image/jpeg:https://cbdl.org.br/wp-content/uploads/2025/09/VIII-Seminario-de-Etica-na-Gestao-em-Saude.jpg
ORGANIZER;CN="Consenso Salud":MAILTO:seminarios@consensosalud.com.ar
END:VEVENT
END:VCALENDAR