BEGIN:VCALENDAR
VERSION:2.0
PRODID:-//CBDL - ECPv6.15.17.1//NONSGML v1.0//EN
CALSCALE:GREGORIAN
METHOD:PUBLISH
X-WR-CALNAME:CBDL
X-ORIGINAL-URL:https://cbdl.org.br
X-WR-CALDESC:Eventos para CBDL
REFRESH-INTERVAL;VALUE=DURATION:PT1H
X-Robots-Tag:noindex
X-PUBLISHED-TTL:PT1H
BEGIN:VTIMEZONE
TZID:America/Sao_Paulo
BEGIN:STANDARD
TZOFFSETFROM:-0300
TZOFFSETTO:-0300
TZNAME:-03
DTSTART:20250101T000000
END:STANDARD
END:VTIMEZONE
BEGIN:VEVENT
DTSTART;VALUE=DATE:20260618
DTEND;VALUE=DATE:20260619
DTSTAMP:20260423T182711
CREATED:20260212T183137Z
LAST-MODIFIED:20260212T183137Z
UID:375777-1781740800-1781827199@cbdl.org.br
SUMMARY:XI Fórum ABIIS - Brasília
DESCRIPTION:
URL:https://cbdl.org.br/evento/xi-forum-abiis-brasilia/
CATEGORIES:Fórum
ATTACH;FMTTYPE=image/jpeg:https://cbdl.org.br/wp-content/uploads/2021/04/logo_abiis_color.jpg
END:VEVENT
END:VCALENDAR