BEGIN:VCALENDAR
VERSION:2.0
PRODID:-//CBDL - ECPv6.15.17.1//NONSGML v1.0//EN
CALSCALE:GREGORIAN
METHOD:PUBLISH
X-WR-CALNAME:CBDL
X-ORIGINAL-URL:https://cbdl.org.br
X-WR-CALDESC:Eventos para CBDL
REFRESH-INTERVAL;VALUE=DURATION:PT1H
X-Robots-Tag:noindex
X-PUBLISHED-TTL:PT1H
BEGIN:VTIMEZONE
TZID:America/Sao_Paulo
BEGIN:STANDARD
TZOFFSETFROM:-0300
TZOFFSETTO:-0300
TZNAME:-03
DTSTART:20240101T000000
END:STANDARD
END:VTIMEZONE
BEGIN:VEVENT
DTSTART;TZID=America/Sao_Paulo:20251031T080000
DTEND;TZID=America/Sao_Paulo:20251031T170000
DTSTAMP:20260424T033517
CREATED:20251023T190105Z
LAST-MODIFIED:20251023T190105Z
UID:375141-1761897600-1761930000@cbdl.org.br
SUMMARY:AGO CBDL Apresentação de Chapa
DESCRIPTION:
URL:https://cbdl.org.br/evento/ago-cbdl-apresentacao-de-chapa/
LOCATION:São Paulo
CATEGORIES:Evento
ATTACH;FMTTYPE=image/webp:https://cbdl.org.br/wp-content/uploads/2024/01/cropped-favicon-CBDL.webp
END:VEVENT
END:VCALENDAR