BEGIN:VCALENDAR
VERSION:2.0
PRODID:-//CBDL - ECPv6.15.17.1//NONSGML v1.0//EN
CALSCALE:GREGORIAN
METHOD:PUBLISH
X-ORIGINAL-URL:https://cbdl.org.br
X-WR-CALDESC:Eventos para CBDL
REFRESH-INTERVAL;VALUE=DURATION:PT1H
X-Robots-Tag:noindex
X-PUBLISHED-TTL:PT1H
BEGIN:VTIMEZONE
TZID:America/Sao_Paulo
BEGIN:STANDARD
TZOFFSETFROM:-0300
TZOFFSETTO:-0300
TZNAME:-03
DTSTART:20240101T000000
END:STANDARD
END:VTIMEZONE
BEGIN:VEVENT
DTSTART;TZID=America/Sao_Paulo:20250923T080000
DTEND;TZID=America/Sao_Paulo:20250925T220000
DTSTAMP:20260424T140056
CREATED:20240114T151328Z
LAST-MODIFIED:20240114T151328Z
UID:371929-1758614400-1758837600@cbdl.org.br
SUMMARY:ANALITICA LATIN AMERICA
DESCRIPTION:A ANALITICA LATIN AMERICA é o ponto de encontro da indústria química analítica na America Latina e reúne profissionais\, empresas e organizações que estão envolvidos no campo da análise química\, instrumental\, laboratorial e de controle de qualidade. \nO evento oferece uma plataforma para a exposição de equipamentos de laboratório\, produtos químicos\, instrumentação analítica\, serviços relacionados e informações sobre os avanços tecnológicos e as tendências da indústria\, além de ser uma importante fonte de conhecimento e oportunidades de negócios.
URL:https://cbdl.org.br/evento/analitica-latin-america/
LOCATION:São Paulo Expo\, Rodovia dos Imigrantes\, 1\,5 km - Vila Água Funda\, São Paulo\, SP\, 04329-900\, Brasil
CATEGORIES:Encontro
ATTACH;FMTTYPE=image/webp:https://cbdl.org.br/wp-content/uploads/2024/01/ANOTE_NA_AGENDA-ANALITICA.webp
ORGANIZER;CN="N%C3%BCrnbergMesse Brasil":MAILTO:analitica@nm-brasil.com.br
END:VEVENT
END:VCALENDAR