BEGIN:VCALENDAR
VERSION:2.0
PRODID:-//CBDL - ECPv6.15.17.1//NONSGML v1.0//EN
CALSCALE:GREGORIAN
METHOD:PUBLISH
X-WR-CALNAME:CBDL
X-ORIGINAL-URL:https://cbdl.org.br
X-WR-CALDESC:Eventos para CBDL
REFRESH-INTERVAL;VALUE=DURATION:PT1H
X-Robots-Tag:noindex
X-PUBLISHED-TTL:PT1H
BEGIN:VTIMEZONE
TZID:America/Sao_Paulo
BEGIN:STANDARD
TZOFFSETFROM:-0300
TZOFFSETTO:-0300
TZNAME:-03
DTSTART:20250101T000000
END:STANDARD
END:VTIMEZONE
BEGIN:VEVENT
DTSTART;TZID=America/Sao_Paulo:20260311T083000
DTEND;TZID=America/Sao_Paulo:20260311T160000
DTSTAMP:20260423T150104
CREATED:20260128T172220Z
LAST-MODIFIED:20260303T152644Z
UID:375651-1773217800-1773244800@cbdl.org.br
SUMMARY:Curso sobre Tributário
DESCRIPTION:Descrição do evento\nData: 11 de março de 2026 (quarta-feira) \nHora:  de 08h30 às 16h00 \nPresencial no Sindhosp – Av. Brig. Faria Lima\, 1912\, 18º andar\, São Paulo – SP  \ne on-line pelo Zoom  \nObjetivo: \nAnalisar\, de forma prática e estratégica\, os novos regimes de tributação (IBS e CBS)\, a transição dos sistemas\, os regimes diferenciados aplicáveis ao setor\, impactos nos atuais incentivos fiscais\, desafios operacionais\, fiscalização e os meios de resolução de litígios\, com foco em auxiliar as tomadas de decisões empresariais. \nPúblico Alvo:  \nEmpresas do setor de diagnóstico laboratorial e prestadores de serviços tributários do setor. \nPolítica do evento\nCancelamento de pedidos pagos\nCancelamentos de pedidos serão aceitos até 7 dias após a compra\, desde que a solicitação seja enviada até 48 horas antes do início do evento. \nSaiba mais sobre o cancelamento \nEdição de participantes\nVocê poderá editar o participante de um ingresso apenas uma vez. Essa opção ficará disponível até 24 horas antes do início do evento. \nSaiba como editar participantes \nLocal\nSindHosp\nAvenida Brigadeiro Faria Lima\, 1912\, 18° Andar \nSão Paulo\, SP \n  \nLINK INSCRIÇÃO: Reforma Tributária: Impactos no Setor de Diagnósticos em São Paulo – Sympla
URL:https://cbdl.org.br/evento/curso-sobre-tributario/
LOCATION:Sindhosp\, Av. Brig. Faria Lima\, 1912 - 18º andar - Jardim Paulistano\, São Paulo - SP\, 01451-907\, São Paulo\, São Paulo\, 01451-907\, Brazil
CATEGORIES:Curso
ATTACH;FMTTYPE=image/png:https://cbdl.org.br/wp-content/uploads/2026/01/CBDL-O-Evento-Tributario.png
END:VEVENT
END:VCALENDAR