BEGIN:VCALENDAR
VERSION:2.0
PRODID:-//CBDL - ECPv6.15.17.1//NONSGML v1.0//EN
CALSCALE:GREGORIAN
METHOD:PUBLISH
X-WR-CALNAME:CBDL
X-ORIGINAL-URL:https://cbdl.org.br
X-WR-CALDESC:Eventos para CBDL
REFRESH-INTERVAL;VALUE=DURATION:PT1H
X-Robots-Tag:noindex
X-PUBLISHED-TTL:PT1H
BEGIN:VTIMEZONE
TZID:America/Sao_Paulo
BEGIN:STANDARD
TZOFFSETFROM:-0300
TZOFFSETTO:-0300
TZNAME:-03
DTSTART:20250101T000000
END:STANDARD
END:VTIMEZONE
BEGIN:VEVENT
DTSTART;VALUE=DATE:20260424
DTEND;VALUE=DATE:20260426
DTSTAMP:20260424T003341
CREATED:20260202T153626Z
LAST-MODIFIED:20260202T153626Z
UID:375691-1776988800-1777161599@cbdl.org.br
SUMMARY:VII CONGIPLAB
DESCRIPTION:🔬 Vem aí o VII CONGIPLAB — Congresso Brasileiro de Laboratórios! Dias 24 e 25 de Abril de 2026\, em Campinas\, SP.\nUm encontro para atualizar\, conectar e fortalecer quem vive a rotina do laboratório todos os dias. 💙✨ \n✅ Mais de 1500 congressistas 👥\n✅ Palestras de alto nível técnico 🎤📚\n✅ Fórum de laboratórios 💬🧪\n✅ Encontro de lideranças 🤝\n✅ Feira e Exposição de Análises Clínicas 🏛️🔎\n✅ Coquetel de encerramento 🥂 \n📍 Hotel Premium Campinas — R. Novotel\, 931\, Jardim Nova Aparecida\, Campinas/SP\n📲 Informações: (11) 99213-8835\n🌐 www.giplab.com.br\n✉️ giplabadm@gmail.com \n🚀 Garanta sua presença e faça parte deste grande evento !
URL:https://cbdl.org.br/evento/vii-congiplab/
LOCATION:DF
CATEGORIES:Congresso
ATTACH;FMTTYPE=image/webp:https://cbdl.org.br/wp-content/uploads/2026/02/VI-CONGIPLAB-2026.webp
END:VEVENT
END:VCALENDAR