BEGIN:VCALENDAR
VERSION:2.0
PRODID:-//CBDL - ECPv6.15.17.1//NONSGML v1.0//EN
CALSCALE:GREGORIAN
METHOD:PUBLISH
X-WR-CALNAME:CBDL
X-ORIGINAL-URL:https://cbdl.org.br
X-WR-CALDESC:Eventos para CBDL
REFRESH-INTERVAL;VALUE=DURATION:PT1H
X-Robots-Tag:noindex
X-PUBLISHED-TTL:PT1H
BEGIN:VTIMEZONE
TZID:America/Sao_Paulo
BEGIN:STANDARD
TZOFFSETFROM:-0300
TZOFFSETTO:-0300
TZNAME:-03
DTSTART:20240101T000000
END:STANDARD
END:VTIMEZONE
BEGIN:VEVENT
DTSTART;TZID=America/Sao_Paulo:20251204T080000
DTEND;TZID=America/Sao_Paulo:20251207T170000
DTSTAMP:20260424T125710
CREATED:20250930T194130Z
LAST-MODIFIED:20250930T194130Z
UID:375061-1764835200-1765126800@cbdl.org.br
SUMMARY:Healthcare Expo Taiwan 2025
DESCRIPTION:Após nosso sucesso com 550 reuniões em 2024\, envolvendo 77 empresas/associações de 20 países\, este ano promete oportunidades de networking ainda maiores e discussões impactantes para se conectar com os principais players do setor de saúde para colaboração em perspectiva.
URL:https://cbdl.org.br/evento/healthcare-expo-taiwan-2025/
LOCATION:DF
CATEGORIES:Congresso
ATTACH;FMTTYPE=image/jpeg:https://cbdl.org.br/wp-content/uploads/2025/09/Healthcare-Expo-Taiwan-2025.jpg
END:VEVENT
END:VCALENDAR