BEGIN:VCALENDAR
VERSION:2.0
PRODID:-//CBDL - ECPv6.15.17.1//NONSGML v1.0//EN
CALSCALE:GREGORIAN
METHOD:PUBLISH
X-WR-CALNAME:CBDL
X-ORIGINAL-URL:https://cbdl.org.br
X-WR-CALDESC:Eventos para CBDL
REFRESH-INTERVAL;VALUE=DURATION:PT1H
X-Robots-Tag:noindex
X-PUBLISHED-TTL:PT1H
BEGIN:VTIMEZONE
TZID:America/Sao_Paulo
BEGIN:STANDARD
TZOFFSETFROM:-0300
TZOFFSETTO:-0300
TZNAME:-03
DTSTART:20240101T000000
END:STANDARD
END:VTIMEZONE
BEGIN:VEVENT
DTSTART;TZID=America/Sao_Paulo:20251005T080000
DTEND;TZID=America/Sao_Paulo:20251008T170000
DTSTAMP:20260424T154510
CREATED:20250930T190201Z
LAST-MODIFIED:20250930T190201Z
UID:375032-1759651200-1759942800@cbdl.org.br
SUMMARY:the medtech conference 2025
DESCRIPTION:Em apenas duas semanas\, a comunidade global de tecnologia médica se reunirá em San Diego para a Conferência MedTech\, organizada pela AdvaMed\, The MedTech Association. A conferência deste ano oferece uma plataforma completa para conversas críticas\, insights globais e vitrines de tecnologia que estão redefinindo o futuro dos cuidados de saúde. \nJunte-se a milhares de líderes do setor de 5 a 8 de outubro para acesso direto à educação oportuna em tecnologia médica\, networking de alto impacto com CEOs e executivos seniores e as mais recentes inovações que impulsionam soluções centradas no paciente.
URL:https://cbdl.org.br/evento/the-medtech-conference-2025/
LOCATION:San Diego\, California\, United States
CATEGORIES:Congresso
ATTACH;FMTTYPE=image/webp:https://cbdl.org.br/wp-content/uploads/2025/09/the-medtech-conference-2025.webp
END:VEVENT
END:VCALENDAR