BEGIN:VCALENDAR
VERSION:2.0
PRODID:-//CBDL - ECPv6.15.17.1//NONSGML v1.0//EN
CALSCALE:GREGORIAN
METHOD:PUBLISH
X-WR-CALNAME:CBDL
X-ORIGINAL-URL:https://cbdl.org.br
X-WR-CALDESC:Eventos para CBDL
REFRESH-INTERVAL;VALUE=DURATION:PT1H
X-Robots-Tag:noindex
X-PUBLISHED-TTL:PT1H
BEGIN:VTIMEZONE
TZID:America/Sao_Paulo
BEGIN:STANDARD
TZOFFSETFROM:-0300
TZOFFSETTO:-0300
TZNAME:-03
DTSTART:20240101T000000
END:STANDARD
END:VTIMEZONE
BEGIN:VEVENT
DTSTART;TZID=America/Sao_Paulo:20251029T080000
DTEND;TZID=America/Sao_Paulo:20251101T170000
DTSTAMP:20260424T124831
CREATED:20250930T191041Z
LAST-MODIFIED:20250930T191041Z
UID:375039-1761724800-1762016400@cbdl.org.br
SUMMARY:HEMO 2025
DESCRIPTION:Prezados(as) palestrantes\, congressistas e parceiros\, \nÉ com grande honra e satisfação que lhes dou as boas-vindas ao HEMO 2025 – Congresso Brasileiro de Hematologia\, Hemoterapia e Terapia Celular\, que será realizado de 29 de outubro a 1º de novembro de 2025\, na cidade de São Paulo (SP). \nReconhecido como o terceiro maior congresso de Hematologia do mundo\, o HEMO reafirma o protagonismo da Hematologia brasileira no cenário científico global e seu papel como um fórum estratégico para profissionais da saúde\, pesquisadores e representantes da indústria. \nEsta edição foi cuidadosamente planejada para oferecer um espaço plural e integrador\, que estimule a troca de experiências\, o estabelecimento de conexões profissionais e a atualização científica de excelência\, reunindo médicos\, enfermeiros\, biomédicos\, farmacêuticos\, biólogos\, gestores\, estudantes e demais profissionais que compõem o cuidado integral em Hematologia\, Hemoterapia e Terapia Celular. Teremos a honra de contar com palestrantes nacionais e internacionais de reconhecido destaque global em suas áreas\, que trarão perspectivas inovadoras e experiências de relevância mundial para enriquecer nossas discussões.
URL:https://cbdl.org.br/evento/hemo-2025/
LOCATION:Transamerica Expo Center – São Paulo – SP\, Av. Dr. Mário Vilas Boas Rodrigues\, 387\, São Paulo\, SP\, 04757-020\, Brasil
CATEGORIES:Congresso
ATTACH;FMTTYPE=image/png:https://cbdl.org.br/wp-content/uploads/2025/09/hemo-2025.png
END:VEVENT
BEGIN:VEVENT
DTSTART;TZID=America/Sao_Paulo:20251105T080000
DTEND;TZID=America/Sao_Paulo:20251107T170000
DTSTAMP:20260424T124831
CREATED:20250930T191547Z
LAST-MODIFIED:20250930T191547Z
UID:375042-1762329600-1762534800@cbdl.org.br
SUMMARY:28º Congresso UNIDAS
DESCRIPTION:O evento tem por objetivo explorar como a colaboração e a integração entre os diversos atores do ecossistema de saúde podem impulsionar a longevidade e fortalecer o propósito das operadoras de autogestão em saúde\, preparando-as para a era da Saúde 5.0. \nParticipe do Congresso Internacional UNIDAS e posicione sua empresa no centro das discussões sobre saúde suplementar\, conectando-se com instituições de autogestão filiadas e não-filiadas\, prestadores de serviços e empresas do setor. Seja parte das conversas que moldarão o futuro da saúde com inovação e propósito. \nO nosso propósito é promover experiências enriquecedoras\, catalisar oportunidades de negócios e fortalecer as iniciativas que impulsionam o crescimento contínuo do setor.
URL:https://cbdl.org.br/evento/28o-congresso-unidas/
LOCATION:Centro de Convenções Salvador (CCS)\, Av. Octávio Mangabeira\, 5.490 – Boca do Rio\, Salvador\, BAHIA\, 41706-690\, Brazil
CATEGORIES:Congresso
ATTACH;FMTTYPE=image/jpeg:https://cbdl.org.br/wp-content/uploads/2025/09/banner-topo01-1536x478-1.jpg
ORGANIZER;CN="UNIDAS":MAILTO:congresso@unidas.org.br
END:VEVENT
BEGIN:VEVENT
DTSTART;TZID=America/Sao_Paulo:20251105T080000
DTEND;TZID=America/Sao_Paulo:20251107T170000
DTSTAMP:20260424T124831
CREATED:20250930T192123Z
LAST-MODIFIED:20250930T192123Z
UID:375047-1762329600-1762534800@cbdl.org.br
SUMMARY:FISWEEK 2025
DESCRIPTION:O maior Evento de Inovação\, Criatividade e Tendências da Saúde\, com 14 palcos simultaneos\, lounges das maiores empresas do Setor. \nO ponto de encontro do Ecossistema da Saúde\, construído por vários parceiros e onde as principais lideranças e empresas estão para trocar experiências. \nSeja para profissionais que queiram aumentar sua rede de relacionamento ou conhecer as principais discussões e tendências do Setor\, ou para aqueles que queiram estar mais preparados para os desafios das suas carreiras e de suas empresas\, a #fswk é o seu espaço. \nSejam bem-vindos ao movimento que chegou para mudar os seus conceitos de Saúde!
URL:https://cbdl.org.br/evento/fisweek-2025/
LOCATION:DF
CATEGORIES:Congresso
ATTACH;FMTTYPE=image/jpeg:https://cbdl.org.br/wp-content/uploads/2025/09/fisweek-2025-1.jpg
ORGANIZER;CN="Fis":MAILTO:comercial@fis.org.br
END:VEVENT
END:VCALENDAR