BEGIN:VCALENDAR
VERSION:2.0
PRODID:-//CBDL - ECPv6.15.17.1//NONSGML v1.0//EN
CALSCALE:GREGORIAN
METHOD:PUBLISH
X-ORIGINAL-URL:https://cbdl.org.br
X-WR-CALDESC:Eventos para CBDL
REFRESH-INTERVAL;VALUE=DURATION:PT1H
X-Robots-Tag:noindex
X-PUBLISHED-TTL:PT1H
BEGIN:VTIMEZONE
TZID:America/Sao_Paulo
BEGIN:STANDARD
TZOFFSETFROM:-0300
TZOFFSETTO:-0300
TZNAME:-03
DTSTART:20250101T000000
END:STANDARD
END:VTIMEZONE
BEGIN:VEVENT
DTSTART;VALUE=DATE:20260726
DTEND;VALUE=DATE:20260801
DTSTAMP:20260423T171347
CREATED:20260212T184854Z
LAST-MODIFIED:20260212T184854Z
UID:375785-1785024000-1785542399@cbdl.org.br
SUMMARY:26ª Conferência Internacional sobre AIDS
DESCRIPTION:AIDS 2026\, a 26ª Conferência Internacional sobre AIDS\, realizada no Rio de Janeiro\, Brasil\, e virtualmente de 26 a 31 de julho de 2026\, ocorre em um momento crucial para a resposta ao HIV. \nDiante de uma crise de financiamento sem precedentes e grandes cortes nos programas de HIV\, a maior conferência mundial sobre HIV e AIDS reunirá pessoas que vivem com HIV\, pesquisadores\, formuladores de políticas\, profissionais de saúde\, financiadores\, mídia e comunidades.
URL:https://cbdl.org.br/evento/26a-conferencia-internacional-sobre-aids/
CATEGORIES:Conferência
ATTACH;FMTTYPE=image/jpeg:https://cbdl.org.br/wp-content/uploads/2026/02/26o-Aids-2026-1b.jpg
END:VEVENT
END:VCALENDAR