BEGIN:VCALENDAR
VERSION:2.0
PRODID:-//CBDL - ECPv6.15.17.1//NONSGML v1.0//EN
CALSCALE:GREGORIAN
METHOD:PUBLISH
X-WR-CALNAME:CBDL
X-ORIGINAL-URL:https://cbdl.org.br
X-WR-CALDESC:Eventos para CBDL
REFRESH-INTERVAL;VALUE=DURATION:PT1H
X-Robots-Tag:noindex
X-PUBLISHED-TTL:PT1H
BEGIN:VTIMEZONE
TZID:America/Sao_Paulo
BEGIN:STANDARD
TZOFFSETFROM:-0300
TZOFFSETTO:-0300
TZNAME:-03
DTSTART:20250101T000000
END:STANDARD
END:VTIMEZONE
BEGIN:VEVENT
DTSTART;VALUE=DATE:20260518
DTEND;VALUE=DATE:20260524
DTSTAMP:20260423T182638
CREATED:20260205T122124Z
LAST-MODIFIED:20260205T122124Z
UID:375715-1779062400-1779580799@cbdl.org.br
SUMMARY:79th World Health Assembly
DESCRIPTION:Qual o impacto da Assembleia Mundial da Saúde do ano passado (WHA 78) teve para o movimento climático e de saúde? \n  \n\nA 78ª Assembleia Mundial da Saúde (WHA78)\, realizada em maio de 2025\, marcou um marco na ação global em saúde e clima com a adoção do Plano de Ação Global (GAP) sobre Mudanças Climáticas e Saúde. Esse plano estabelece passos concretos para que governos e a OMS enfrentem os impactos das mudanças climáticas na saúde. \nA GCHA e seus membros saudaram o GAP como uma ferramenta muito necessária para impulsionar ações\, especialmente sua forte ênfase na integração da saúde nos compromissos climáticos (NDCs) dos países e na incorporação do clima nos planos nacionais de saúde. No entanto\, estamos alarmados com a omissão de qualquer referência a uma transição justa para longe dos combustíveis fósseis\, ou à reforma do subsídio a combustíveis fósseis\, no GAP\, devido ao papel que os combustíveis fósseis desempenham no impulso tanto das mudanças climáticas quanto da poluição do ar\, além da infinidade de outros meios de danos à saúde.
URL:https://cbdl.org.br/evento/79th-world-health-assembly/
CATEGORIES:Assembleia
ATTACH;FMTTYPE=image/jpeg:https://cbdl.org.br/wp-content/uploads/2026/02/79a-World-Health-Assembly-WHA.jpg
END:VEVENT
END:VCALENDAR